BEGIN:VCALENDAR
VERSION:2.0
PRODID:-//The Rossow Group - ECPv6.15.20//NONSGML v1.0//EN
CALSCALE:GREGORIAN
METHOD:PUBLISH
X-WR-CALNAME:The Rossow Group
X-ORIGINAL-URL:https://therossowgroup.com
X-WR-CALDESC:Events for The Rossow Group
REFRESH-INTERVAL;VALUE=DURATION:PT1H
X-Robots-Tag:noindex
X-PUBLISHED-TTL:PT1H
BEGIN:VTIMEZONE
TZID:UTC
BEGIN:STANDARD
TZOFFSETFROM:+0000
TZOFFSETTO:+0000
TZNAME:UTC
DTSTART:20230101T000000
END:STANDARD
END:VTIMEZONE
BEGIN:VEVENT
DTSTART;VALUE=DATE:20240214
DTEND;VALUE=DATE:20240215
DTSTAMP:20260424T084543
CREATED:20240206T113239Z
LAST-MODIFIED:20240217T214924Z
UID:693-1707868800-1707955199@therossowgroup.com
SUMMARY:INTRODUCTION TO SUPERVISION IN THE 21ST CENTURY
DESCRIPTION:Attendee Registration\nINTRODUCTION TO SUPERVISION IN THE 21ST CENTURY (3 Days)\nCost: $185 \nThis three-day program is designed for police\, fire\, corrections\, and communications personnel who want to make a difference in their community and their department by providing guidance\, supervision\, and mentoring to their subordinates. Topics include: Start with WHY\, The DiSC and Leadership\, 21 st Century Policing and the Six Pillars\, Communications\, Challenges\, Discipline\, and others to assist first line supervisors effectively do their jobs and hold others accountable. Now is the time to start developing your leadership skills! Prepare TODAY! 
URL:https://therossowgroup.com/events/introduction-to-supervision-in-the-21st-century/
LOCATION:MI
CATEGORIES:Core Classes
ATTACH;FMTTYPE=image/jpeg:https://therossowgroup.com/wp-content/uploads/2024/02/CORE.jpg
ORGANIZER;CN="The Rossow Group":MAILTO:info@therossowgroup.com
END:VEVENT
END:VCALENDAR