BEGIN:VCALENDAR
VERSION:2.0
PRODID:-//The Rossow Group - ECPv6.15.14//NONSGML v1.0//EN
CALSCALE:GREGORIAN
METHOD:PUBLISH
X-ORIGINAL-URL:https://therossowgroup.com
X-WR-CALDESC:Events for The Rossow Group
REFRESH-INTERVAL;VALUE=DURATION:PT1H
X-Robots-Tag:noindex
X-PUBLISHED-TTL:PT1H
BEGIN:VTIMEZONE
TZID:America/Detroit
BEGIN:DAYLIGHT
TZOFFSETFROM:-0500
TZOFFSETTO:-0400
TZNAME:EDT
DTSTART:20240310T070000
END:DAYLIGHT
BEGIN:STANDARD
TZOFFSETFROM:-0400
TZOFFSETTO:-0500
TZNAME:EST
DTSTART:20241103T060000
END:STANDARD
BEGIN:DAYLIGHT
TZOFFSETFROM:-0500
TZOFFSETTO:-0400
TZNAME:EDT
DTSTART:20250309T070000
END:DAYLIGHT
BEGIN:STANDARD
TZOFFSETFROM:-0400
TZOFFSETTO:-0500
TZNAME:EST
DTSTART:20251102T060000
END:STANDARD
BEGIN:DAYLIGHT
TZOFFSETFROM:-0500
TZOFFSETTO:-0400
TZNAME:EDT
DTSTART:20260308T070000
END:DAYLIGHT
BEGIN:STANDARD
TZOFFSETFROM:-0400
TZOFFSETTO:-0500
TZNAME:EST
DTSTART:20261101T060000
END:STANDARD
END:VTIMEZONE
BEGIN:VEVENT
DTSTART;TZID=America/Detroit:20250618T080000
DTEND;TZID=America/Detroit:20250618T120000
DTSTAMP:20260421T063330
CREATED:20250422T053222Z
LAST-MODIFIED:20250609T180226Z
UID:1313-1750233600-1750248000@therossowgroup.com
SUMMARY:Basic FOIA Training Calhoun County June 18\, 2025
DESCRIPTION:Marshall Regional Law Enforcement Center\n714 Old Hwy 27 North\,\nMarshall\, MI 49068\nInstructor: Lori Hinkley\, J.D.\nThis is not just another FOIA class.\nThe course is taught by Lori Hinkley\, the recently retired Manager and FOIA Coordinator for the Transparency\nand Accountability Division of the Michigan State Police. The course will:\n• Introduce the students to an overview of the Act.\n• Define “public record” and “public body”.\n• Introduce the students to processing of FOIA requests\, fees\, exemptions\, rights of requestors.\n• Present model response statements\, forms\, and case studies.\n• Cover reports\, UD10’s\, and video requests.\nThis class is for anyone\, sworn or civilian\, who needs an understanding of the Freedom of Information Act and\nthose who are actually responsible for dealing with and answering the public’s requests under the Freedom of\nInformation Act at your agency.\nThe course is taught by Lori Hinkley\, J.D.. Lori is truly THE expert when it comes to FOIA in Michigan. She\nhas taught for many years. She will pass on her many years of experience in dealing with the ACT and requests\nunder the FOIA. You are sure to take away many practical tools.
URL:https://therossowgroup.com/events/basic-foia-training-calhoun-county-june-18-2025/
LOCATION:Marshall Regional Law Enforcement Center\, 714 Old Hwy 27 North\, Marshall\, MI\, 49068\, United States
ORGANIZER;CN="The Rossow Group":MAILTO:info@therossowgroup.com
END:VEVENT
END:VCALENDAR