BEGIN:VCALENDAR
VERSION:2.0
PRODID:-//The Rossow Group - ECPv6.15.14//NONSGML v1.0//EN
CALSCALE:GREGORIAN
METHOD:PUBLISH
X-WR-CALNAME:The Rossow Group
X-ORIGINAL-URL:https://therossowgroup.com
X-WR-CALDESC:Events for The Rossow Group
REFRESH-INTERVAL;VALUE=DURATION:PT1H
X-Robots-Tag:noindex
X-PUBLISHED-TTL:PT1H
BEGIN:VTIMEZONE
TZID:UTC
BEGIN:STANDARD
TZOFFSETFROM:+0000
TZOFFSETTO:+0000
TZNAME:UTC
DTSTART:20230101T000000
END:STANDARD
END:VTIMEZONE
BEGIN:VEVENT
DTSTART;VALUE=DATE:20240208
DTEND;VALUE=DATE:20240209
DTSTAMP:20260421T133242
CREATED:20240206T114207Z
LAST-MODIFIED:20240217T215041Z
UID:699-1707350400-1707436799@therossowgroup.com
SUMMARY:PROPERTY ROOM MANAGEMENT
DESCRIPTION:Attendee Registration\nPROPERTY ROOM MANAGEMENT (1 Day)\nCost: $185 \nThe property and evidence room plays a critical role in both the effective investigation of criminal cases and the subsequent prosecution of offenders. Deficiencies in operations or documentation can lead to inadmissibility and the potential for a lost or dismissed case. This course provides a basic understanding of the legal and ethical requirements for a professional evidence/property management system. Participants will become familiar with techniques and responsibilities involved in the function of a property room environment and encouraged to exchange ideas to improve their agency’s property management system. The course complies with MLEAC standards.
URL:https://therossowgroup.com/events/property-room-management/
LOCATION:MI
CATEGORIES:Workshops
ATTACH;FMTTYPE=image/jpeg:https://therossowgroup.com/wp-content/uploads/2024/02/Workshop.jpg
ORGANIZER;CN="The Rossow Group":MAILTO:info@therossowgroup.com
END:VEVENT
BEGIN:VEVENT
DTSTART;VALUE=DATE:20240201
DTEND;VALUE=DATE:20240202
DTSTAMP:20260421T133242
CREATED:20240206T093803Z
LAST-MODIFIED:20240217T215231Z
UID:587-1706745600-1706831999@therossowgroup.com
SUMMARY:CULTURAL AWARENESS IN THE 21ST CENTURY
DESCRIPTION:Attendee Registration\nCULTURAL AWARENESS IN THE 21ST CENTURY (3-6 hours)\nCost: $185 \nLaw enforcement plays a unique role in keeping our communities safe. Because police officers serve all segments of the population\, their cross-cultural understanding is imperative. This training for law enforcement provides the knowledge and skills necessary to help police officers connect with their communities. 
URL:https://therossowgroup.com/events/cultural-awareness-in-the-21st-century/
LOCATION:MI
CATEGORIES:Custom Training
ATTACH;FMTTYPE=image/jpeg:https://therossowgroup.com/wp-content/uploads/2024/02/CUSTOM-TRAINING.jpg
ORGANIZER;CN="The Rossow Group":MAILTO:info@therossowgroup.com
END:VEVENT
END:VCALENDAR