BEGIN:VCALENDAR
VERSION:2.0
PRODID:-//The Rossow Group - ECPv6.15.14//NONSGML v1.0//EN
CALSCALE:GREGORIAN
METHOD:PUBLISH
X-WR-CALNAME:The Rossow Group
X-ORIGINAL-URL:https://therossowgroup.com
X-WR-CALDESC:Events for The Rossow Group
REFRESH-INTERVAL;VALUE=DURATION:PT1H
X-Robots-Tag:noindex
X-PUBLISHED-TTL:PT1H
BEGIN:VTIMEZONE
TZID:UTC
BEGIN:STANDARD
TZOFFSETFROM:+0000
TZOFFSETTO:+0000
TZNAME:UTC
DTSTART:20230101T000000
END:STANDARD
END:VTIMEZONE
BEGIN:VEVENT
DTSTART;VALUE=DATE:20240302
DTEND;VALUE=DATE:20240303
DTSTAMP:20260422T062552
CREATED:20240206T051611Z
LAST-MODIFIED:20240217T214317Z
UID:540-1709337600-1709423999@therossowgroup.com
SUMMARY:COWBOY ETHICS AND LEADERSHIP
DESCRIPTION:Attendee Registration\n​COWBOY ETHICS AND LEADERSHIP (3-8 hours)\nCost: $185 \nRediscover the Inspiration and Passion of the working cowboy of the late 19th century. I am not talking about the gunslingers but the working cowboy who lived a hard life in the saddle and courageously drove cattle hundreds of miles with no comforts and their own set of spoken rules. The work was tough and dangerous and they needed each other to survive. Their code was more to do with Character\, Principles and Values than RULES. The course will also discuss how the code can be used for leadership\nin public safety.
URL:https://therossowgroup.com/events/cowboy-ethics-and-leadership/
LOCATION:MI
CATEGORIES:Core Classes
ATTACH;FMTTYPE=image/jpeg:https://therossowgroup.com/wp-content/uploads/2024/02/CORE.jpg
ORGANIZER;CN="The Rossow Group":MAILTO:info@therossowgroup.com
END:VEVENT
BEGIN:VEVENT
DTSTART;VALUE=DATE:20240302
DTEND;VALUE=DATE:20240303
DTSTAMP:20260422T062552
CREATED:20240206T112709Z
LAST-MODIFIED:20240217T214217Z
UID:685-1709337600-1709423999@therossowgroup.com
SUMMARY:FOIA FOR LAW ENFORCEMENT
DESCRIPTION:Attendee Registration\nFOIA FOR LAW ENFORCEMENT (1 Day)\nCost: $185 \nFOIA is not a 4-letter word. This class will teach you the ins and outs of dealing with requests under the Freedom of Information Act. The instructor will discuss the importance of knowing what to release and what not to release. She will also discuss the legal requirements and penalties for non-compliance with the FOIA.
URL:https://therossowgroup.com/events/foia-for-law-enforcement/
LOCATION:MI
CATEGORIES:Core Classes
ATTACH;FMTTYPE=image/jpeg:https://therossowgroup.com/wp-content/uploads/2024/02/CORE.jpg
ORGANIZER;CN="The Rossow Group":MAILTO:info@therossowgroup.com
END:VEVENT
BEGIN:VEVENT
DTSTART;VALUE=DATE:20240302
DTEND;VALUE=DATE:20240303
DTSTAMP:20260422T062552
CREATED:20240206T113821Z
LAST-MODIFIED:20240217T214125Z
UID:695-1709337600-1709423999@therossowgroup.com
SUMMARY:OUR NOBLE PROFESSION\, A REFRESHER
DESCRIPTION:Attendee Registration\nOUR NOBLE PROFESSION\, A REFRESHER (KEYNOTE TO 4 Hours)\nCost: $185 \nDuring these trying times\, we need to remember the importance of our membership in a noble\nprofession. Regardless of what is going on politically and economically\, we continue to be courageous\, selfless\, and pay the ultimate sacrifice for our communities. We fight the good fight\, no matter what! At times like this\, it is hard to remember that since the beginning of time warriors have performed duringtimes of adversity and hardship. It is the privilege of being in such company with guardians who have protected those who can’t protect themselves for hundreds of years.
URL:https://therossowgroup.com/events/our-noble-profession-a-refresher/
LOCATION:MI
CATEGORIES:Core Classes
ATTACH;FMTTYPE=image/jpeg:https://therossowgroup.com/wp-content/uploads/2024/02/CORE.jpg
ORGANIZER;CN="The Rossow Group":MAILTO:info@therossowgroup.com
END:VEVENT
BEGIN:VEVENT
DTSTART;VALUE=DATE:20240302
DTEND;VALUE=DATE:20240303
DTSTAMP:20260422T062552
CREATED:20240208T000016Z
LAST-MODIFIED:20240217T214008Z
UID:802-1709337600-1709423999@therossowgroup.com
SUMMARY:Advanced Freedom of Information Act Training
DESCRIPTION:ADVANCED FREEDOM OF INFORMATION ACT TRAINING\nCost: $185 \n0900 – 1600\n(MCOLES 302 Fund Registered Pending)\nPort Huron Police Department\n100 McMorran Blvd.\, \, MI 49783 \nTo Register:  Call Eric at (810) 320-9517 or email:  eric@therossowgroup.com
URL:https://therossowgroup.com/events/advanced-freedom-of-information-act-training/
LOCATION:MI
CATEGORIES:Workshops
ATTACH;FMTTYPE=image/jpeg:https://therossowgroup.com/wp-content/uploads/2024/02/CORE.jpg
ORGANIZER;CN="The Rossow Group":MAILTO:info@therossowgroup.com
END:VEVENT
BEGIN:VEVENT
DTSTART;VALUE=DATE:20240302
DTEND;VALUE=DATE:20240303
DTSTAMP:20260422T062552
CREATED:20240208T000305Z
LAST-MODIFIED:20240217T213907Z
UID:809-1709337600-1709423999@therossowgroup.com
SUMMARY:Freedom of Information Act Training
DESCRIPTION:Attendee Registration\nADVANCED FREEDOM OF INFORMATION ACT TRAINING\nCost: $185 \n0900 – 1600\n(MCOLES 302 Fund Registered)\nMacomb Community College\nEast Campus – Room 143\n21901 Dunham Road\, Clinton Township\, MI 48036 \n​To Register:  Call Eric at (810) 320-9517 or email:  eric@therossowgroup.com
URL:https://therossowgroup.com/events/freedom-of-information-act-training/
LOCATION:MI
CATEGORIES:Workshops
ATTACH;FMTTYPE=image/jpeg:https://therossowgroup.com/wp-content/uploads/2024/02/Workshop.jpg
ORGANIZER;CN="The Rossow Group":MAILTO:info@therossowgroup.com
END:VEVENT
END:VCALENDAR