BEGIN:VCALENDAR
VERSION:2.0
PRODID:-//The Rossow Group - ECPv6.15.14//NONSGML v1.0//EN
CALSCALE:GREGORIAN
METHOD:PUBLISH
X-ORIGINAL-URL:https://therossowgroup.com
X-WR-CALDESC:Events for The Rossow Group
REFRESH-INTERVAL;VALUE=DURATION:PT1H
X-Robots-Tag:noindex
X-PUBLISHED-TTL:PT1H
BEGIN:VTIMEZONE
TZID:America/Detroit
BEGIN:DAYLIGHT
TZOFFSETFROM:-0500
TZOFFSETTO:-0400
TZNAME:EDT
DTSTART:20240310T070000
END:DAYLIGHT
BEGIN:STANDARD
TZOFFSETFROM:-0400
TZOFFSETTO:-0500
TZNAME:EST
DTSTART:20241103T060000
END:STANDARD
BEGIN:DAYLIGHT
TZOFFSETFROM:-0500
TZOFFSETTO:-0400
TZNAME:EDT
DTSTART:20250309T070000
END:DAYLIGHT
BEGIN:STANDARD
TZOFFSETFROM:-0400
TZOFFSETTO:-0500
TZNAME:EST
DTSTART:20251102T060000
END:STANDARD
BEGIN:DAYLIGHT
TZOFFSETFROM:-0500
TZOFFSETTO:-0400
TZNAME:EDT
DTSTART:20260308T070000
END:DAYLIGHT
BEGIN:STANDARD
TZOFFSETFROM:-0400
TZOFFSETTO:-0500
TZNAME:EST
DTSTART:20261101T060000
END:STANDARD
END:VTIMEZONE
BEGIN:VEVENT
DTSTART;TZID=America/Detroit:20250507T090000
DTEND;TZID=America/Detroit:20250507T180000
DTSTAMP:20260421T063448
CREATED:20250421T130011Z
LAST-MODIFIED:20250422T055637Z
UID:1207-1746608400-1746640800@therossowgroup.com
SUMMARY:Advanced FOIA Training Green Oak Twp. May 7\, 2025
DESCRIPTION:Green Oak Township Police Department\n9400 Whitmore Lake Rd\,\nBrighton\, MI 48116\nInstructor: Lori Hinkley\, J.D.\nPrerequisite: Basic FOIA Course\n(MCOLES 302 Fund Registered)\nThis is the class you have been asking for:\nThis is a workshop style class where attendees will apply their knowledge of Michigan’s FOIA to practical scenarios. After a quick review of the most challenging areas of FOIA\, participants will be presented with FOIA requests and they will be required to apply their knowledge to the exercise. Lori will then review the responses\, followed by an open discussion.\nThe student will:\n• Understand and be able to articulate the 13(1)(b) privacy exemption\, including both prongs and the significant public interest exception\,\n• Understand the LE privacy exception and how it differs from the general privacy exception.\n• Understand when and how to apply the Crime Victims’ Rights Act when processing a FOIA request.\n• Be able to articulate why they applied an exception using appropriate statutory language that would not be considered arbitrary and capricious if appealed by a requester.\nThis class is for anyone\, sworn or civilian\, who needs an understanding of the Freedom of Information Act and those who are actually responsible for dealing with and answering the public’s requests under the Freedom of Information Act at your agency.\nThe course is taught by Lori Hinkley\, J.D.. Lori is truly THE expert when it comes to FOIA in Michigan. She has taught for many years. She will pass on her many years of experience in dealing with the ACT and requests under the FOIA. You are sure to take away many practical tools.
URL:https://therossowgroup.com/events/advanced-foia-training-green-oak-township/
LOCATION:Green Oak Township Police Department\, 9400 Whitmore Lake Rd.\, Brighton\, MI\, 48116\, United States
CATEGORIES:Advanced FOIA Classes
END:VEVENT
BEGIN:VEVENT
DTSTART;TZID=America/Detroit:20250513T080000
DTEND;TZID=America/Detroit:20250513T170000
DTSTAMP:20260421T063448
CREATED:20250413T130034Z
LAST-MODIFIED:20250422T055406Z
UID:1245-1747123200-1747155600@therossowgroup.com
SUMMARY:Advanced FOIA Training Allegan County May 13\, 2025
DESCRIPTION:Allegan County Sheriff’s Office640 River Street\, Allegan MI 49010Instructor: Lori Hinkley\, J.D.(MCOLES 302 and SNC Funds Registered)Prerequisite: Basic FOIA Course \nThis is the class you have been asking for:This is a workshop style class where attendees will apply their knowledge of Michigan’s FOIA to practical scenarios. After a quick review of the most challenging areas of FOIA\, participants will be presented with FOIA requests and they will be required to apply their knowledge to the exercise. Lori will then review the responses\, followed by an open discussion. The student will:• Understand and be able to articulate the 13(1)(b) privacy exemption\, including both prongs and the significant public interest exception\,• Understand the LE privacy exception and how it differs from the general privacy exception.• Understand when and how to apply the Crime Victims’ Rights Act when processing a FOIA request.• Be able to articulate why they applied an exception using appropriate statutory language that would not be considered arbitrary and capricious if appealed by a requester. This class is for anyone\, sworn or civilian\, who needs an understanding of the Freedom of Information Act and those who are actually responsible for dealing with and answering the public’s requests under the Freedom of Information Act at your agency.The course is taught by Lori Hinkley\, J.D.. Lori is truly THE expert when it comes to FOIA in Michigan. She has taught for many years. She will pass on her many years of experience in dealing with the ACT and requests under the FOIA. You are sure to take away many practical tools.
URL:https://therossowgroup.com/events/advanced-foia-training-allegan-county-may-13-2025/
LOCATION:Allegan County Sheriff’s Office\, 640 River Street\, Allegan\, MI\, 49010\, United States
CATEGORIES:Advanced FOIA Classes
END:VEVENT
END:VCALENDAR